BEGIN:VCALENDAR
VERSION:2.0
PRODID:-//Logia - ECPv6.15.17//NONSGML v1.0//EN
CALSCALE:GREGORIAN
METHOD:PUBLISH
X-ORIGINAL-URL:http://logia.be
X-WR-CALDESC:Evenementen voor Logia
REFRESH-INTERVAL;VALUE=DURATION:PT1H
X-Robots-Tag:noindex
X-PUBLISHED-TTL:PT1H
BEGIN:VTIMEZONE
TZID:Europe/Helsinki
BEGIN:DAYLIGHT
TZOFFSETFROM:+0200
TZOFFSETTO:+0300
TZNAME:EEST
DTSTART:20180325T010000
END:DAYLIGHT
BEGIN:STANDARD
TZOFFSETFROM:+0300
TZOFFSETTO:+0200
TZNAME:EET
DTSTART:20181028T010000
END:STANDARD
BEGIN:DAYLIGHT
TZOFFSETFROM:+0200
TZOFFSETTO:+0300
TZNAME:EEST
DTSTART:20190331T010000
END:DAYLIGHT
BEGIN:STANDARD
TZOFFSETFROM:+0300
TZOFFSETTO:+0200
TZNAME:EET
DTSTART:20191027T010000
END:STANDARD
BEGIN:DAYLIGHT
TZOFFSETFROM:+0200
TZOFFSETTO:+0300
TZNAME:EEST
DTSTART:20200329T010000
END:DAYLIGHT
BEGIN:STANDARD
TZOFFSETFROM:+0300
TZOFFSETTO:+0200
TZNAME:EET
DTSTART:20201025T010000
END:STANDARD
END:VTIMEZONE
BEGIN:VEVENT
DTSTART;TZID=Europe/Helsinki:20191105T193000
DTEND;TZID=Europe/Helsinki:20191105T220000
DTSTAMP:20260424T220418
CREATED:20190903T093407Z
LAST-MODIFIED:20190903T094109Z
UID:5316-1572982200-1572991200@logia.be
SUMMARY:05.11.2019 ‘Inspired leadership\, 8 centuries of experience’ - Timothy Radcliffe
DESCRIPTION:Op dinsdag 5 november 2019 organiseert Etion in samenwerking met Logia een avond ‘Inspired leadership\, 8 centuries of experience’ met gastspreker Timothy Radcliffe. Hij zal spreken over leiderschap en spiritualiteit vanuit Dominicaanse inspiratie. Het zal gaan over leiderschap in de brede zin van het woord. Deze avond gaat door in Centrum Eenheid\, Aarschotsesteenweg 381\, 3111 Wezemaal. Om 19.30 uur wordt u verwacht met soep en een broodje en om 20.00 uur start de lezing. Om 21.30 uur kan er nog nagepraat worden met een drankje. De avond kost € 20 exclusief voor Logia leden. Voor niet Logia-leden is de kostprijs € 40. Voor jongeren onder de 25 jaar is het gratis. Iedereen is van harte welkom. \n 
URL:http://logia.be/evenement/inspired-leadership-8-centuries-of-experience-timothy-radcliffe/
LOCATION:Centrum Eenheid\, Aarschotsesteenweg 381\, Wezemaal\, Vlaams-Brabant\, 3111\, België
CATEGORIES:Lezing
END:VEVENT
END:VCALENDAR