BEGIN:VCALENDAR
VERSION:2.0
PRODID:-//Logia - ECPv6.15.17//NONSGML v1.0//EN
CALSCALE:GREGORIAN
METHOD:PUBLISH
X-WR-CALNAME:Logia
X-ORIGINAL-URL:http://logia.be
X-WR-CALDESC:Evenementen voor Logia
REFRESH-INTERVAL;VALUE=DURATION:PT1H
X-Robots-Tag:noindex
X-PUBLISHED-TTL:PT1H
BEGIN:VTIMEZONE
TZID:Europe/Helsinki
BEGIN:DAYLIGHT
TZOFFSETFROM:+0200
TZOFFSETTO:+0300
TZNAME:EEST
DTSTART:20180325T010000
END:DAYLIGHT
BEGIN:STANDARD
TZOFFSETFROM:+0300
TZOFFSETTO:+0200
TZNAME:EET
DTSTART:20181028T010000
END:STANDARD
BEGIN:DAYLIGHT
TZOFFSETFROM:+0200
TZOFFSETTO:+0300
TZNAME:EEST
DTSTART:20190331T010000
END:DAYLIGHT
BEGIN:STANDARD
TZOFFSETFROM:+0300
TZOFFSETTO:+0200
TZNAME:EET
DTSTART:20191027T010000
END:STANDARD
BEGIN:DAYLIGHT
TZOFFSETFROM:+0200
TZOFFSETTO:+0300
TZNAME:EEST
DTSTART:20200329T010000
END:DAYLIGHT
BEGIN:STANDARD
TZOFFSETFROM:+0300
TZOFFSETTO:+0200
TZNAME:EET
DTSTART:20201025T010000
END:STANDARD
END:VTIMEZONE
BEGIN:VEVENT
DTSTART;VALUE=DATE:20190429
DTEND;VALUE=DATE:20190430
DTSTAMP:20260424T222751
CREATED:20190121T095458Z
LAST-MODIFIED:20190121T095459Z
UID:4834-1556496000-1556582399@logia.be
SUMMARY:29.04.2019 Studiedag: Euthanasie doorgeslagen? Een kritische doorlichting van de euthanasiewet en -commissie
DESCRIPTION:Meer en meer mensen in binnen- en buitenland stellen zich vragen bij de euthanasiepraktijk in België. Meer dan vijftien jaar na de invoering van de wet en de Federale Controle- en Evaluatiecommissie Euthanasie dringen zich steeds meer pertinente vragen op. Wordt de euthanasiewet correct toegepast? Wat zijn de sterktes en zwaktes in de huidige wetgeving? Wie controleert de praktijk? Kan men die controle vertrouwen? Wat met euthanasie bij mensen met psychiatrische problemen? De studiedag neemt de euthanasiewetgeving en -praktijk kritisch onder de loep met betrokkenen en experten. \nDatum \n29 April 2019 09u00-17u00 \nLocatie \nPromotiezaal KU Leuven\nUniversiteitshallen\, Naamsestraat 22\n3000 Leuven \nInschrijven \nInschrijven kan via dit formulier en door €10 te storten op BE56 0688 9125 1888 met de vermelding ‘NAAM + VOORNAAM inschrijving studiedag 29 april’.\nIndien u student of lid van Katechetika Plus bent is toegang gratis. \nProgramma \nVoormiddag \n8.30 – 9.15 uur: onthaal met koffie \n9.15 – 9.30 uur: Inleiding door Hans Geybels \n9.30 – 10.00 uur: Willem Lemmens \n10.00 – 10.20 uur: Vraag & antwoord \n10.20 – 10.50 uur: Sigrid Sterckx \n10.50 – 11.10 uur: Vraag & Antwoord \n11.10 – 11.30 uur: getuigenis Ludo Vanopdenbosch \n11.30 – 11.40 uur: Vraag & Antwoord \nKoffiepauze tot 12.10 uur \n12.10 – 12.40 uur: Theo Boer \n12.40 – 13.00 uur: Vraag & Antwoord \nMiddagpauze met broodjes \nNamiddag \n14.00 – 14.30 uur: An Haekens \n14.30 – 14.50 uur: Vraag & Antwoord \n14.50 – 15.10 uur: getuigenis van Ruth Piers \n15.10 – 15.20 uur: Vraag & Antwoord \n15.20 – 15.50 uur: Marc Eneman \n15.50 – 16.10: Vraag & Antwoord \n16.10 – 16.30 uur: getuigenis Johan Menten \n16.30 – 16.40 uur: Vraag & Antwoord \n               Receptie \n  \n  \n 
URL:http://logia.be/evenement/29-04-2019-studiedag-euthanasie-doorgeslagen-een-kritische-doorlichting-van-de-euthanasiewet-en-commissie/
LOCATION:Leuven\, Universiteitshallen\, Naamsestraat 22\, Leuven\, Vlaams-Brabant\, 3000\, België
CATEGORIES:Studiedag
ATTACH;FMTTYPE=image/jpeg:http://logia.be/wp-content/uploads/2019/01/Euthanasie-doorgeslagen_definitief3.jpg
END:VEVENT
END:VCALENDAR