BEGIN:VCALENDAR
VERSION:2.0
PRODID:-//Logia - ECPv6.15.17//NONSGML v1.0//EN
CALSCALE:GREGORIAN
METHOD:PUBLISH
X-ORIGINAL-URL:http://logia.be
X-WR-CALDESC:Evenementen voor Logia
REFRESH-INTERVAL;VALUE=DURATION:PT1H
X-Robots-Tag:noindex
X-PUBLISHED-TTL:PT1H
BEGIN:VTIMEZONE
TZID:Europe/Helsinki
BEGIN:DAYLIGHT
TZOFFSETFROM:+0200
TZOFFSETTO:+0300
TZNAME:EEST
DTSTART:20190331T010000
END:DAYLIGHT
BEGIN:STANDARD
TZOFFSETFROM:+0300
TZOFFSETTO:+0200
TZNAME:EET
DTSTART:20191027T010000
END:STANDARD
BEGIN:DAYLIGHT
TZOFFSETFROM:+0200
TZOFFSETTO:+0300
TZNAME:EEST
DTSTART:20200329T010000
END:DAYLIGHT
BEGIN:STANDARD
TZOFFSETFROM:+0300
TZOFFSETTO:+0200
TZNAME:EET
DTSTART:20201025T010000
END:STANDARD
BEGIN:DAYLIGHT
TZOFFSETFROM:+0200
TZOFFSETTO:+0300
TZNAME:EEST
DTSTART:20210328T010000
END:DAYLIGHT
BEGIN:STANDARD
TZOFFSETFROM:+0300
TZOFFSETTO:+0200
TZNAME:EET
DTSTART:20211031T010000
END:STANDARD
END:VTIMEZONE
BEGIN:VEVENT
DTSTART;VALUE=DATE:20200331
DTEND;VALUE=DATE:20200401
DTSTAMP:20260424T202543
CREATED:20190730T124401Z
LAST-MODIFIED:20200211T095924Z
UID:5157-1585612800-1585699199@logia.be
SUMMARY:31.03.2020 ‘Vermarkting van de zorgsector. Zorgwekkend?'
DESCRIPTION:In onze samenleving is er een verschuiving zichtbaar dat geld voor een patiënt meer en meer meespeelt om goede zorg te krijgen. Er zijn ellenlange wachtlijsten in de gehandicaptenzorg. In de ouderenzorg zijn de commerciële zorgondernemers – met een focus op winst maken – prominent aanwezig. Peperdure elektronische patiëntendossiers worden door allerlei mechanismen uiteindelijk mee betaald door de individuele patiënten die het vaak al niet te breed hebben. Is de zorg op de zeer dure eenpersoonskamers echt ook betere zorg of dient die meerprijs voor wat anders? Hospitalisatieverzekeringen worden alsmaar duurder en zijn voor bepaalde kwetsbare groepen in de samenleving onbetaalbaar. De wachttijden voor een afspraak bij bepaalde specialismen in een ziekenhuis zijn lang\, maar in de privé praktijk van de specialist kan je\, mits een meerprijs\, sneller terecht. Deze verschuiving is een geruisloos proces. Ons opzet is met deze studiedag hier aandacht aan te schenken\, niet vanuit een voor of tegen perspectief\, maar open en gericht op de toekomst van onze samenleving. Deze studiedag peilt naar pro’s en contra’s van deze maatschappelijke ontwikkeling. \n  \nWanneer? \nDinsdag 31 maart 2020\, 09.00 uur – 18.00 uur \nWaar?\nPromotiezaal\, Universiteitshallen\, Naamsestraat 22\, 3000 Leuven \nPrijs?\n€ 20\, studenten kunnen gratis deelnemen en leden van Katechetika Plus betalen € 15. \nInschrijven verplicht! \nEr worden broodjes voorzien als lunch \n  \nInschrijvingslink:\nhttps://theo.kuleuven.be/didache/vermarkting-zorgsector/ \n  \nProgramma/sprekers:\nAntoon Vandevelde (KU Leuven) \nRi De Ridder (Ex-topman RIZIV) \nJohan Crijns (Anima Care) \nKoen Oosterlinck (Broeders van Liefde) \nEric Nysmans (Welzijnszorg Kempen) \nAlex Cox (CM Regio Limburg) \nAline Le Clef (Sodexo) \nBert Vanderhaegen (UZ Gent)
URL:http://logia.be/evenement/save-the-date-vermarkting-van-de-zorgsector-zorgwekkend-31-maart-2020/
LOCATION:Leuven\, Universiteitshallen\, Naamsestraat 22\, Leuven\, Vlaams-Brabant\, 3000\, België
CATEGORIES:Studiedag
ATTACH;FMTTYPE=image/jpeg:http://logia.be/wp-content/uploads/2019/07/hans-defNEW.jpg
END:VEVENT
END:VCALENDAR