BEGIN:VCALENDAR
VERSION:2.0
PRODID:-//Logia - ECPv6.15.17//NONSGML v1.0//EN
CALSCALE:GREGORIAN
METHOD:PUBLISH
X-WR-CALNAME:Logia
X-ORIGINAL-URL:http://logia.be
X-WR-CALDESC:Evenementen voor Logia
REFRESH-INTERVAL;VALUE=DURATION:PT1H
X-Robots-Tag:noindex
X-PUBLISHED-TTL:PT1H
BEGIN:VTIMEZONE
TZID:Europe/Helsinki
BEGIN:DAYLIGHT
TZOFFSETFROM:+0200
TZOFFSETTO:+0300
TZNAME:EEST
DTSTART:20180325T010000
END:DAYLIGHT
BEGIN:STANDARD
TZOFFSETFROM:+0300
TZOFFSETTO:+0200
TZNAME:EET
DTSTART:20181028T010000
END:STANDARD
BEGIN:DAYLIGHT
TZOFFSETFROM:+0200
TZOFFSETTO:+0300
TZNAME:EEST
DTSTART:20190331T010000
END:DAYLIGHT
BEGIN:STANDARD
TZOFFSETFROM:+0300
TZOFFSETTO:+0200
TZNAME:EET
DTSTART:20191027T010000
END:STANDARD
BEGIN:DAYLIGHT
TZOFFSETFROM:+0200
TZOFFSETTO:+0300
TZNAME:EEST
DTSTART:20200329T010000
END:DAYLIGHT
BEGIN:STANDARD
TZOFFSETFROM:+0300
TZOFFSETTO:+0200
TZNAME:EET
DTSTART:20201025T010000
END:STANDARD
BEGIN:DAYLIGHT
TZOFFSETFROM:+0200
TZOFFSETTO:+0300
TZNAME:EEST
DTSTART:20210328T010000
END:DAYLIGHT
BEGIN:STANDARD
TZOFFSETFROM:+0300
TZOFFSETTO:+0200
TZNAME:EET
DTSTART:20211031T010000
END:STANDARD
BEGIN:DAYLIGHT
TZOFFSETFROM:+0200
TZOFFSETTO:+0300
TZNAME:EEST
DTSTART:20220327T010000
END:DAYLIGHT
BEGIN:STANDARD
TZOFFSETFROM:+0300
TZOFFSETTO:+0200
TZNAME:EET
DTSTART:20221030T010000
END:STANDARD
BEGIN:DAYLIGHT
TZOFFSETFROM:+0200
TZOFFSETTO:+0300
TZNAME:EEST
DTSTART:20230326T010000
END:DAYLIGHT
BEGIN:STANDARD
TZOFFSETFROM:+0300
TZOFFSETTO:+0200
TZNAME:EET
DTSTART:20231029T010000
END:STANDARD
BEGIN:DAYLIGHT
TZOFFSETFROM:+0200
TZOFFSETTO:+0300
TZNAME:EEST
DTSTART:20240331T010000
END:DAYLIGHT
BEGIN:STANDARD
TZOFFSETFROM:+0300
TZOFFSETTO:+0200
TZNAME:EET
DTSTART:20241027T010000
END:STANDARD
BEGIN:DAYLIGHT
TZOFFSETFROM:+0200
TZOFFSETTO:+0300
TZNAME:EEST
DTSTART:20250330T010000
END:DAYLIGHT
BEGIN:STANDARD
TZOFFSETFROM:+0300
TZOFFSETTO:+0200
TZNAME:EET
DTSTART:20251026T010000
END:STANDARD
END:VTIMEZONE
BEGIN:VEVENT
DTSTART;TZID=Europe/Helsinki:20240521T163000
DTEND;TZID=Europe/Helsinki:20240521T203000
DTSTAMP:20260424T202441
CREATED:20240228T142943Z
LAST-MODIFIED:20240228T142943Z
UID:8656-1716309000-1716323400@logia.be
SUMMARY:Studienamiddag: "Godsdienstvrijheid\, tolerantie en neutraliteit: een ambigue drie-eenheid?" Logia + UCSIA
DESCRIPTION:Vrijheid van godsdienst en geweten is een mensenrecht\, vastgelegd in de Universele Verklaring voor de Rechten van de Mens (1948) en aanvaard door alle lidstaten van de Verenigde Naties. Die internationale gedragenheid neemt echter niet weg dat er doorheen de jaren verschuivingen zijn in de interpretatie van dat fundamentele recht. Er dienen zich voortdurend nieuwe vragen aan: zijn religieuze symbolen in de openbare ruimte nog langer toegestaan? Kan iemand zich blijven beroepen op gewetensvrijheid in professionele aangelegenheden? Kan de vrije inrichting van onderwijs nog gegarandeerd worden? \nOp het niveau van de Belgische staat en politiek worden steeds meer voorstellen gedaan omtrent neutraliteit. Sommige voorstellen beperken daarbij de zichtbare rol die religie in een samenleving kan spelen. Het principe van ‘gelijke afstand’ van de overheid tegenover alle erkende levensbeschouwingen\, een essentieel onderdeel van de staatsneutraliteit\, kan grosso modo twee kanten op. Ofwel haalt de overheid de band met de erkende levensbeschouwelijke instanties nauwer aan. Religie kan zich dan weliswaar manifesteren in de publieke ruimte\, maar wel volgens door de overheid bepaalde criteria. Ofwel verwijst de overheid religiebeleving naar de privésfeer. De vraag rijst dan of staatsneutraliteit nog samengaat met vrijheid van godsdienst. Vele voorstellen voor neutraliteit in Europa halen hun inspiratie uit het begrip laïcité in Frankrijk. Een afspraak die oorspronkelijk garantie moest bieden voor de onpartijdigheid en onafhankelijkheid van bepaalde openbare instellingen ten opzichte van de rooms-katholieke kerk\, en niet verwees naar neutraliteit in het openbaar. \nIs neutraliteit wenselijk? Volgens Mariëtta van der Tol (docent politicologie aan Lincoln College\, University of Oxford) is de uitsluiting van religie uit het openbaar leven problematisch: het houdt een oordeel in dat deze ‘andersheid’ of minderheid geen rol meer zal spelen in de politieke toekomst en dat het hoogstens ‘getolereerd wordt’ dat een religie bestaat in een samenleving. Dat is geen echte godsdienstvrijheid\, en ook geen echte neutraliteit. \nNaast de toenemende tendens richting neutraliteit als ‘verwijzing van religie naar de privésfeer’\, ontstaat in België de paradoxale beweging van de staat die\, zowel op lokaal als federaal niveau\, zelf steeds meer initiatief neemt om het religieuze middenveld te organiseren. De staat bekijkt religie vanuit zijn eigen bril\, als een van de keuzeopties binnen de vrijetijdsbesteding dan wel als een inherente bedreiging die overwonnen moet worden via een neutraal overheidsinitiatief. Zo heeft de Belgische overheid vorig jaar de Moslimexecutieve afgeschaft en in de plaats daarvan de Moslimraad opgericht. Bovendien wil ze steeds meer greep krijgen op de religies die in België bestaan: er werd een informatie- en screeningsdienst van lokale geloofsgemeenschappen opgericht\, een controleorgaan dat wantrouwen uitademt. \nVrijheid van religie lijkt gegarandeerd door de Universele Verklaring voor de Rechten van de Mens\, maar leidt deze formele\, juridisch erkende vrijheid ook tot voldoende reële vrijheid op het terrein? Maakt de neutrale seculariteit van de staat religiebeleving mogelijk\, of filtert ze die beleving meer en meer weg uit het maatschappelijk weefsel? Is religie een primary good zoals een moedertaal? Of is het eerder een vrijblijvend lidmaatschap zoals dat van een sportclub? Is een religieuze overtuiging iets dat enkel geuit mag worden in de privésfeer? Wat doet staatsneutraliteit met de (minderheids)stem van gelovigen in de publieke sfeer en hun recht op representatie en erkenning? \nTijdens deze studiedag buigen we ons over deze kwesties\, samen met sprekers Mariëtta van der Tol (Lincoln College\, University of Oxford)\, Sophie van Bijsterveld (Radboud Universiteit Nijmegen)\, Jogchum Vrielink (UCLouvain Saint-Louis Bruxelles)\, Samira Azabar (Radboud Universiteit Nijmegen) en Frans van Daele (Europese Commissie).
URL:http://logia.be/evenement/studienamiddag-godsdienstvrijheid-tolerantie-en-neutraliteit-een-ambigue-drie-eenheid-logia-ucsia/
LOCATION:Universiteit Antwerpen\, Hof Van Liere\, Hof van Liere F. de Tassiszaal\, Prinsstraat 13\, Antwerpen\, Antwerpen\, 2000\, België
CATEGORIES:Lezing,Studiedag
ATTACH;FMTTYPE=image/jpeg:http://logia.be/wp-content/uploads/2024/02/kul-neutraliteit-DEF.jpg
END:VEVENT
BEGIN:VEVENT
DTSTART;TZID=Europe/Helsinki:20230214T133000
DTEND;TZID=Europe/Helsinki:20230214T180000
DTSTAMP:20260424T202441
CREATED:20221122T160113Z
LAST-MODIFIED:20221122T160113Z
UID:8316-1676381400-1676397600@logia.be
SUMMARY:14.02.2023: 'Hoe aanwezig zijn als christen in deze wereld?'
DESCRIPTION:Wat?\nDe seculiere samenleving waarin we leven daagt ons uit om te zoeken op welke manier christenen vandaag in deze wereld aanwezig kunnen zijn. Terwijl het neoliberalisme de samenleving inpalmt\, wordt de zingevingscrisis door steeds meer mensen (en in het bijzonder jongeren) heel scherp aangevoeld. De evangelische inspiratie kan een alternatief bieden voor deze zingevingscrisis\, maar bij christenen ontbreekt het vaak aan taal en vorming om het evangelie te verkondigen in de wereld van nu. Tijdens deze studienamiddag gaan we op zoek naar adequate pistes voor de toekomst van ‘verkondiging’ in deze samenleving.\n\nWiee\nHans Geybels: ‘Het vak RZL in de geseculariseerde context van de ingenieurswetenschappen’\nErik Borgman: ‘Kan de kerk wel bloeien in een geseculariseerde context?’\nGuido Vanheeswijck: ‘Onbeminde gelovigen. Opportuniteiten voor christenen in de seculariteit.’\nDe toegang is gratis\, inschrijven verplicht via onderstaande link.\n\n\nWanneer?\nDinsdag 14 februari 2023\nOnthaal om 13.30 uur;\nStart om 14 uur;\nEinde voorzien rond 17 uur;\nReceptie van 17 uur tot 18 uur\n\n\n\nWaar?\nUniversiteitshallen\, Naamsestraat 22\, 3000 Leuven
URL:http://logia.be/evenement/14-02-2023-hoe-aanwezig-zijn-als-christen-in-deze-wereld/
LOCATION:Leuven\, Universiteitshallen\, Naamsestraat 22\, Leuven\, Vlaams-Brabant\, 3000\, België
CATEGORIES:Studiedag
ATTACH;FMTTYPE=image/jpeg:http://logia.be/wp-content/uploads/2022/11/joris-snaet.jpg
END:VEVENT
BEGIN:VEVENT
DTSTART;TZID=Europe/Helsinki:20220228T133000
DTEND;TZID=Europe/Helsinki:20220228T170000
DTSTAMP:20260424T202441
CREATED:20211201T141946Z
LAST-MODIFIED:20220211T154757Z
UID:8012-1646055000-1646067600@logia.be
SUMMARY:Studiedag 28 februari 2022: 'Vrijheid van religie onder druk'
DESCRIPTION:Het statuut van religie in de samenleving wordt steeds penibeler. Deze neerwaartse trend van het gepercipieerde belang van religie wordt reeds in vele termen samengevat: ontkerkelijking\, secularisering\, laïciteit. Ook in België wordt een dergelijke evolutie vastgesteld. Niet alleen op juridisch en politiek niveau\, ook op het brede maatschappelijke niveau ziet het ernaar uit dat religie moet worden teruggedrongen tot de privésfeer\, weg van de publieke ruimte. Vanuit bepaalde hoeken is er argwaan ten opzichte van het idee van vrijheid van godsdienst zoals het (apart) is opgenomen in de Belgische Grondwet. Ook in het onderwijs komt religie in het gedrang. Steeds vaker gaan er stemmen op voor het schrappen van de godsdienstles. \nTegelijkertijd is er een nood aan zingeving. Het belang van religie voor de samenleving\, moet weer benadrukt worden. Om deze problematiek in kaart te brengen en potentiële oplossingen aan te reiken\, wordt een studiedag georganiseerd met drie keynote speakers die de situatie analyseren en alternatieve oplossingen voorstellen. \nOnze sprekers \nJogchum Vrielink is professor aan faculteit rechten aan de Université de Saint-Louis in Brussel. \nHet ‘neutraliseren’ van de godsdienstvrijheid \nDe wijze waarop de godsdienstvrijheid en de ‘neutraliteit’ van de staat traditioneel werden opgevat in België ligt sterk onder vuur; vandaag ogenschijnlijk meer dan ooit. \nInzake neutraliteit is er vanuit bepaalde groepen en actoren veel druk om – vooral door middel van grondwetswijzingen – te komen tot een (constitutionele) opvatting daarvan die zogezegd aansluit bij de Franse opvatting van laïcité. Het lijkt het in bewuste initiatieven echter (nog) verder te gaan dan die Franse opvatting: aan het begrip laïcité wordt een invulling gegeven die erop neerkomt dat religie zoveel mogelijk uit het openbare leven geduwd moet worden. \nSamenhangend daarmee zijn er eindeloze discussies over bestaansrecht van allerlei zaken die worden gezien of ge(re)presenteerd als religieuze ‘excepties’ of ‘voorrechten’. Gedacht kan worden aan uitzonderingen voor geloofsgemeenschappen in de discriminatiewetgeving\, of aan het verbod op onverdoofde rituele slacht\, discussies over (jongens)besnijdenis en aan levensbeschouwelijke gewetensbezwaren van artsen inzake bepaalde medische ingrepen. Zelfs de godsdienstvrijheid als (afzonderlijk) recht zelf wordt in toenemende mate in vraag gesteld. \nIn zijn lezing zal prof. Vrielink een aantal van deze kwesties – in hun ruimere context – analyseren. Dit mede om te achterhalen waar deze ontwikkeling in onze hedendaagse samenleving vandaan komt\, wat maakt dat het vandaag voet aan de grond lijkt te krijgen en wat de gevaren zijn van die evolutie. \nJelle Creemers heeft onderzoek gedaan naar de verhouding tussen religie en de staat. Hij is professor aan de Evangelische Theologische Faculteit te Leuven. \nGeloofsgemeenschappen met argusogen bekeken: een blik op het nieuwe Vlaamse eredienstendecreet \nMet het nieuwe eredienstendecreet (Oktober 2021) heeft minister Somers de verhouding tussen geloofsgemeenschappen en overheid in Vlaanderen fundamenteel gewijzigd. De Grondwet staat een principieel positieve vertrouwensrelatie tussen lokale geloofsgemeenschappen en overheid voor. Lokale kerken\, moskeeën en synagoges in België kunnen immers erkenning en ondersteuning krijgen van de federale overheid voor de verloning van hun bedienaar en kunnen daarenboven steun krijgen op provinciaal en/of gemeentelijk niveau. Erkenning en steun komen onder voorwaarden\, natuurlijk. In het huidige Belgische staatsbestel worden die voorwaarden niet bepaald door de betalende overheden\, maar door de regio’s – in casu\, de Vlaamse overheid. In het nieuwe eredienstendecreet van de hand van minister Somers zijn de regels daarvoor flink aangescherpt. Een kritische blik op dit decreet laat zien hoe de Vlaamse overheid vertrekt vanuit een groot wantrouwen jegens geloofsgemeenschappen en zo het uitgangspunt van een positieve vertrouwensbasis tussen overheid en geloofsgemeenschappen structureel ondergraaft. Het decreet mondt uit in de oprichting van een heus Vlaams controleorgaan voor geloofsgemeenschappen. De Vlaamse overheid verkiest dus om niet te investeren in de structurele ondersteuning van geloofsgemeenschappen\, maar in hun controle. Deze lezing geeft uitleg bij deze ontwikkeling en haar achtergrond en stelt kritische vragen naar het doel en de toekomstige toepassing ervan. \nMieke Van Hecke is voormalig hoofd van het Katholiek Onderwijs. \nGrondwettelijke vrijheden op de schop – onderwijs als pilootcasus? \nHet dossier ‘eindtermen’\, de inhoud van wat moet onderwezen worden en de vraag of de Vlaamse overheid de grondwettelijke vrijheid van onderwijs teveel beknot is maar het topje van de ijsberg in de politieke aanvallen op de grondwettelijke vrijheden. In om langsom meer domeinen (socio-cultureel werkveld\, cultuur\, welzijn e.a. wil de overheid bepalen of bepaalt ze reeds wat\, wanneer en hoe er moet gewerkt worden\, meestal in ruil voor financiële ondersteuning. Vrijheid van onderwijs\, vrijheid van vereniging staan onder immense druk. Maar ook andere grondwettelijke vrijheden\, zoals vrijheid van godsdienst staan op de helling. Een terechte analyse of paranoia? Mieke Van Hecke begint bij het thema onderwijs\, maar kijkt verder naar bredere maatschappelijke ontwikkelingen. \nPraktisch\nTiming\n13.30 uur: onthaal \n14.00 uur: start studienamiddag \n17.00 uur: receptie \nInschrijven\nDeelname gratis\, inschrijven verplicht: https://theo.kuleuven.be/nl/studiedag-vrijheid-van-religie-onder-druk \nIndien u zich inschrijft\, rekenen we op uw aanwezigheid. Indien u ingeschreven bent\, maar toch niet meer kan komen\, gelieve dit te melden op het adres info@logia.be.
URL:http://logia.be/evenement/studiedag-vrijheid-van-religie-onder-druk/
LOCATION:Leuven\, Universiteitshallen\, Naamsestraat 22\, Leuven\, Vlaams-Brabant\, 3000\, België
CATEGORIES:Studiedag
ATTACH;FMTTYPE=image/jpeg:http://logia.be/wp-content/uploads/2021/12/pexels-david-rico-2333081-1-e1638369973554.jpg
END:VEVENT
BEGIN:VEVENT
DTSTART;TZID=Europe/Helsinki:20210702T090000
DTEND;TZID=Europe/Helsinki:20210702T163000
DTSTAMP:20260424T202441
CREATED:20210517T152529Z
LAST-MODIFIED:20210617T112646Z
UID:7858-1625216400-1625243400@logia.be
SUMMARY:Studiedag 2 juli 2021: 'Ouderen afgeschreven. Corona legt een sluipende tendens bloot'
DESCRIPTION:Titel: Ouderen afgeschreven. Corona legt een sluipende tendens bloot. \nDatum: vrijdag 2 juli 2021 \nLocatie: aula Max Weber\, campus sociale wetenschappen KULeuven\, Parkstraat 51\, 3000 Leuven \nWe herinneren ons nog allemaal de schrijnende beelden uit de woon- en zorgcentra tijdens de eerste lockdown. Terwijl alle aandacht uitging naar de situatie in de ziekenhuizen\, speelden zich dramatische toestanden af bij de ouderen in de woon-en zorgcentra. Wat er toen (niet) gebeurd is\, legt een veel diepere crisis bloot. Hoe gaan wij in onze samenleving om met ouderen? Hoe is de beeldvorming en de omgang met ouderen zo drastisch kunnen veranderen? Van het wijze kapitaal van een samenleving worden ze steeds vaker tot een “last”\, een “probleem”. Hoe kunnen we ouderen opnieuw valoriseren voor wie ze zijn en hen de plaats geven in onze maatschappij die ze niet alleen verdienen\, maar zelfs rechtmatig toekomt? Eeuwenlang en tot op heden (in alle culturen buiten de Westerse) werden ouderen gerespecteerd voor hun waardigheid en werd een beroep gedaan op hun wijsheid. Ook in onze samenleving hebben ze steeds een centrale plaats gekregen. Wat is er dan zo veranderd? De studiedag zal pijnlijk accuraat blootleggen hoe met ouderen doorgaans wordt omgesprongen en vooral hoe het anders kan en ja zelfs moet. \nProgramma: \nModerator: Prof. Hans Geybels (KULeuven) \nSprekers: Bert Vanderhaegen\, UZ Gent – Prof. Theo Boer\, PThU – Dirk Lips\, Curando – Prof. Jessie Dezutter\, KULeuven – Lindsy Desmet\, KULeuven – Prof. Jan De Volder\, KULeuven en Sant’ Egidio – Prof. Chris Gastmans\, KULeuven \nPrijs: € 20\, € 15 voor leden van Katechetika Plus\, gratis voor studenten \nOntvangst met koffie: 09 uur\, start 09.30 uur. \nDe koffiepauzes en de lunch zullen omgevormd worden tot een meeneemkoffie en een goodiebag met een middagmaal zodat u tijdens de pauzes buiten kan eten en drinken. Er zal geen receptie mogelijk zijn\, omdat dit nog niet is toegestaan. \nInschrijven vereist: https://theo.kuleuven.be/nl/studiedag-ouderen-afgeschreven/
URL:http://logia.be/evenement/studiedag-2-juli-2021-ouderen-afgeschreven-corona-legt-een-sluipende-tendens-bloot/
LOCATION:Leuven\, campus sociale wetenschappen\, Parkstraat 51\, Leuven\, Vlaams-Brabant\, 3000\, België
CATEGORIES:Studiedag
END:VEVENT
BEGIN:VEVENT
DTSTART;TZID=Europe/Helsinki:20210428T161500
DTEND;TZID=Europe/Helsinki:20210428T174500
DTSTAMP:20260424T202441
CREATED:20210326T105906Z
LAST-MODIFIED:20210326T110024Z
UID:7808-1619626500-1619631900@logia.be
SUMMARY:28.04.21 Wordt laïciteit de norm?
DESCRIPTION:Al vanaf het ontstaan van België pogen bepaalde stromingen de vrijheid van religie en dus de invloed van religie in het publieke debat terug te dringen. De laatste grote – publiek gekende – actie dateert van een paar jaar geleden\, toen men een preambule probeerde toe te voegen aan de grondwet waarin gestipuleerd werd dat elke nieuwe wet in België getoetst moest worden aan de laïciteit. De werkelijkheid is dat voortdurend pogingen worden ondernomen om de vrijheid van religie in te perken. Op deze studiedag worden alle démarches die de laatste decennia werden ondernomen op een rijtje gezet. Maar er wordt vooral ook ingezoomd op de rol en de betekenis van de katholieke geloofsgemeenschap zelf. Die lijkt zich haast niet te bekommeren om al die ontwikkelingen. Wordt de ‘neutrale’ publieke ruimte stilaan een werkelijkheid? En mag religie binnen onafzienbare tijd alleen nog in de verborgenheid van de private sfeer beleefd worden?\n\nOnze gastsprekers zijn:\n\nErik Borgman\, professor theologie aan de Universiteit van Tilburg: De moed om af te wijken. Gelovig spreken in de publieke ruimte\n\nCaroline Sägesser\, CRISP/ULB: Faut-il inscrire le principe de laïcité dans la Constitution belge ?\n\nJo Vandeurzen\, oud-minister van o.a. justitie (federaal) en volksgezondheid (Vlaams): over laïciteit in de Belgische politiek\n\nDe livestream start om 16.15 uur en zal duren tot 17.45 uur. Indien u deze namiddag wenst te volgen\, gelieve dit te bevestigen in dit formulier: https://forms.gle/myV8vGNap2BptR9RA\n\nDeze livestream is gratis en voor iedereen toegankelijk. Inschrijving verplicht!
URL:http://logia.be/evenement/28-04-21-wordt-laiciteit-de-norm/
LOCATION:online
CATEGORIES:Studiedag
ATTACH;FMTTYPE=image/jpeg:http://logia.be/wp-content/uploads/2021/03/LivestreamLaiciteit-scaled.jpg
END:VEVENT
BEGIN:VEVENT
DTSTART;VALUE=DATE:20200331
DTEND;VALUE=DATE:20200401
DTSTAMP:20260424T202441
CREATED:20190730T124401Z
LAST-MODIFIED:20200211T095924Z
UID:5157-1585612800-1585699199@logia.be
SUMMARY:31.03.2020 ‘Vermarkting van de zorgsector. Zorgwekkend?'
DESCRIPTION:In onze samenleving is er een verschuiving zichtbaar dat geld voor een patiënt meer en meer meespeelt om goede zorg te krijgen. Er zijn ellenlange wachtlijsten in de gehandicaptenzorg. In de ouderenzorg zijn de commerciële zorgondernemers – met een focus op winst maken – prominent aanwezig. Peperdure elektronische patiëntendossiers worden door allerlei mechanismen uiteindelijk mee betaald door de individuele patiënten die het vaak al niet te breed hebben. Is de zorg op de zeer dure eenpersoonskamers echt ook betere zorg of dient die meerprijs voor wat anders? Hospitalisatieverzekeringen worden alsmaar duurder en zijn voor bepaalde kwetsbare groepen in de samenleving onbetaalbaar. De wachttijden voor een afspraak bij bepaalde specialismen in een ziekenhuis zijn lang\, maar in de privé praktijk van de specialist kan je\, mits een meerprijs\, sneller terecht. Deze verschuiving is een geruisloos proces. Ons opzet is met deze studiedag hier aandacht aan te schenken\, niet vanuit een voor of tegen perspectief\, maar open en gericht op de toekomst van onze samenleving. Deze studiedag peilt naar pro’s en contra’s van deze maatschappelijke ontwikkeling. \n  \nWanneer? \nDinsdag 31 maart 2020\, 09.00 uur – 18.00 uur \nWaar?\nPromotiezaal\, Universiteitshallen\, Naamsestraat 22\, 3000 Leuven \nPrijs?\n€ 20\, studenten kunnen gratis deelnemen en leden van Katechetika Plus betalen € 15. \nInschrijven verplicht! \nEr worden broodjes voorzien als lunch \n  \nInschrijvingslink:\nhttps://theo.kuleuven.be/didache/vermarkting-zorgsector/ \n  \nProgramma/sprekers:\nAntoon Vandevelde (KU Leuven) \nRi De Ridder (Ex-topman RIZIV) \nJohan Crijns (Anima Care) \nKoen Oosterlinck (Broeders van Liefde) \nEric Nysmans (Welzijnszorg Kempen) \nAlex Cox (CM Regio Limburg) \nAline Le Clef (Sodexo) \nBert Vanderhaegen (UZ Gent)
URL:http://logia.be/evenement/save-the-date-vermarkting-van-de-zorgsector-zorgwekkend-31-maart-2020/
LOCATION:Leuven\, Universiteitshallen\, Naamsestraat 22\, Leuven\, Vlaams-Brabant\, 3000\, België
CATEGORIES:Studiedag
ATTACH;FMTTYPE=image/jpeg:http://logia.be/wp-content/uploads/2019/07/hans-defNEW.jpg
END:VEVENT
BEGIN:VEVENT
DTSTART;VALUE=DATE:20190429
DTEND;VALUE=DATE:20190430
DTSTAMP:20260424T202441
CREATED:20190121T095458Z
LAST-MODIFIED:20190121T095459Z
UID:4834-1556496000-1556582399@logia.be
SUMMARY:29.04.2019 Studiedag: Euthanasie doorgeslagen? Een kritische doorlichting van de euthanasiewet en -commissie
DESCRIPTION:Meer en meer mensen in binnen- en buitenland stellen zich vragen bij de euthanasiepraktijk in België. Meer dan vijftien jaar na de invoering van de wet en de Federale Controle- en Evaluatiecommissie Euthanasie dringen zich steeds meer pertinente vragen op. Wordt de euthanasiewet correct toegepast? Wat zijn de sterktes en zwaktes in de huidige wetgeving? Wie controleert de praktijk? Kan men die controle vertrouwen? Wat met euthanasie bij mensen met psychiatrische problemen? De studiedag neemt de euthanasiewetgeving en -praktijk kritisch onder de loep met betrokkenen en experten. \nDatum \n29 April 2019 09u00-17u00 \nLocatie \nPromotiezaal KU Leuven\nUniversiteitshallen\, Naamsestraat 22\n3000 Leuven \nInschrijven \nInschrijven kan via dit formulier en door €10 te storten op BE56 0688 9125 1888 met de vermelding ‘NAAM + VOORNAAM inschrijving studiedag 29 april’.\nIndien u student of lid van Katechetika Plus bent is toegang gratis. \nProgramma \nVoormiddag \n8.30 – 9.15 uur: onthaal met koffie \n9.15 – 9.30 uur: Inleiding door Hans Geybels \n9.30 – 10.00 uur: Willem Lemmens \n10.00 – 10.20 uur: Vraag & antwoord \n10.20 – 10.50 uur: Sigrid Sterckx \n10.50 – 11.10 uur: Vraag & Antwoord \n11.10 – 11.30 uur: getuigenis Ludo Vanopdenbosch \n11.30 – 11.40 uur: Vraag & Antwoord \nKoffiepauze tot 12.10 uur \n12.10 – 12.40 uur: Theo Boer \n12.40 – 13.00 uur: Vraag & Antwoord \nMiddagpauze met broodjes \nNamiddag \n14.00 – 14.30 uur: An Haekens \n14.30 – 14.50 uur: Vraag & Antwoord \n14.50 – 15.10 uur: getuigenis van Ruth Piers \n15.10 – 15.20 uur: Vraag & Antwoord \n15.20 – 15.50 uur: Marc Eneman \n15.50 – 16.10: Vraag & Antwoord \n16.10 – 16.30 uur: getuigenis Johan Menten \n16.30 – 16.40 uur: Vraag & Antwoord \n               Receptie \n  \n  \n 
URL:http://logia.be/evenement/29-04-2019-studiedag-euthanasie-doorgeslagen-een-kritische-doorlichting-van-de-euthanasiewet-en-commissie/
LOCATION:Leuven\, Universiteitshallen\, Naamsestraat 22\, Leuven\, Vlaams-Brabant\, 3000\, België
CATEGORIES:Studiedag
ATTACH;FMTTYPE=image/jpeg:http://logia.be/wp-content/uploads/2019/01/Euthanasie-doorgeslagen_definitief3.jpg
END:VEVENT
END:VCALENDAR